BEGIN:VCALENDAR
VERSION:2.0
PRODID:-//ChamberMaster//Event Calendar 2.0//EN
METHOD:PUBLISH
X-PUBLISHED-TTL:P3D
REFRESH-INTERVAL:P3D
CALSCALE:GREGORIAN
BEGIN:VEVENT
DTSTART:20260503T003000Z
DTEND:20260503T030000Z
X-MICROSOFT-CDO-ALLDAYEVENT:FALSE
SUMMARY:Chemers Gallery & TACFA presents Fleur-ish
DESCRIPTION:Chemers Gallery presents Fleur-ish\, our 18th Annual All Media Exhibition and our first floral-themed show. This juried exhibition celebrates flora through a variety of styles\, from traditional botanical works to abstract interpretations\, across mediums like painting\, sculpture\, photography\, ceramics\, glass\, and more.\n\nExhibition Dates: May 2 16\n\nOpening Reception & Awards: Saturday\, May 2\, 5:30 8:00 PM (Awards at 7 PM)\n\nWe're honored to have artist Amanda Fish as this year's juror.\n\nJoin us on the final day\, May 16\, for live artist demonstrations and a behind-the-scenes look at the creative process.\n\nIn partnership with the Tustin Area Council for Fine Arts (TACFA)\, proudly supporting the arts for 34 years.\n\nMark your calendar and follow our event page for updates!
X-ALT-DESC;FMTTYPE=text/html:<p data-end="374" data-start="54">Chemers Gallery presents <em data-end="90" data-start="79">Fleur-ish</em>\, our 18th Annual All Media Exhibition&mdash\;and our first floral-themed show. This juried exhibition celebrates flora through a variety of styles\, from traditional botanical works to abstract interpretations\, across mediums like painting\, sculpture\, photography\, ceramics\, glass\, and more.</p>\n\n<p data-end="487" data-start="376"><strong data-end="397" data-start="376">Exhibition Dates:</strong> May 2&ndash\;16<br data-end="409" data-start="406" />\n<strong data-end="440" data-start="409">Opening Reception &amp\; Awards:</strong> Saturday\, May 2\, 5:30&ndash\;8:00 PM (Awards at 7 PM)</p>\n\n<p data-end="551" data-start="489">We&rsquo\;re honored to have artist Amanda Fish as this year&rsquo\;s juror.</p>\n\n<p data-end="671" data-start="553">Join us on the final day\, May 16\, for live artist demonstrations and a behind-the-scenes look at the creative process.</p>\n\n<p data-end="781" data-start="673">In partnership with the Tustin Area Council for Fine Arts (TACFA)\, proudly supporting the arts for 34 years.</p>\n\n<p data-end="840" data-is-last-node="" data-is-only-node="" data-start="783">Mark your calendar and follow our event page for updates!</p>\n
LOCATION:17300 17th Street Ste G. Tustin\, CA 92780
UID:e.752.11204
SEQUENCE:3
DTSTAMP:20260420T215858Z
URL:https://business.tustinchamber.org/events/details/chemers-gallery-tacfa-presents-fleur-ish-11204
END:VEVENT

END:VCALENDAR
